BEGIN:VCALENDAR
VERSION:2.0
PRODID:SchoolNow
CALSCALE:GREGORIAN
BEGIN:VEVENT
UID:ae054f02-3a96-11f1-abdb-0a58a9feac02
DTSTAMP:20260424T160528Z
SUMMARY:BB vs Dillon
LOCATION:Ogren Park at Allegiance Field\, 700 Cregg Ln\, Missoula\, MT 5980
 1\, USA
URL;VALUE=URI:https://www.polson.k12.mt.us/polson-high-school/calendar/9001
 052/bb-vs-dillon
DTSTART:20260424T224500Z
DTEND:20260425T011500Z
END:VEVENT
END:VCALENDAR
