BEGIN:VCALENDAR
VERSION:2.0
PRODID:SchoolNow
CALSCALE:GREGORIAN
BEGIN:VEVENT
UID:ae054bf6-3a96-11f1-985f-0a58a9feac02
DTSTAMP:20260424T160528Z
SUMMARY:BB vs Corvallis
LOCATION:Ogren Park at Allegiance Field\, 700 Cregg Ln\, Missoula\, MT 5980
 1\, USA
URL;VALUE=URI:https://www.polson.k12.mt.us/polson-high-school/calendar/9001
 051/bb-vs-corvallis
DTSTART:20260423T203000Z
DTEND:20260423T230000Z
END:VEVENT
END:VCALENDAR
