BEGIN:VCALENDAR
VERSION:2.0
PRODID:SchoolNow
CALSCALE:GREGORIAN
BEGIN:VEVENT
UID:14c73b82-32d2-11f1-99f4-0ea8e2a4a3dd
DTSTAMP:20260424T160528Z
SUMMARY:JV TN @ Hamilton
URL;VALUE=URI:https://www.polson.k12.mt.us/polson-high-school/calendar/8977
 820/jv-tn-hamilton
DTSTART:20260425T160000Z
DTEND:20260425T220000Z
END:VEVENT
END:VCALENDAR
