BEGIN:VCALENDAR
VERSION:2.0
PRODID:SchoolNow
CALSCALE:GREGORIAN
BEGIN:VEVENT
UID:1eb87f2e-3206-11f1-9096-0affc2433167
DTSTAMP:20260424T160528Z
SUMMARY:BB vs Ronan
LOCATION:O'Malley-1-O'Malley Baseball Park (300)
URL;VALUE=URI:https://www.polson.k12.mt.us/polson-high-school/calendar/8975
 486/bb-vs-ronan
DTSTART:20260418T200000Z
DTEND:20260419T003000Z
END:VEVENT
END:VCALENDAR
