BEGIN:VCALENDAR
VERSION:2.0
PRODID:SchoolNow
CALSCALE:GREGORIAN
BEGIN:VEVENT
UID:817e63e6-1689-11f1-a6f4-0a58a9feac02
DTSTAMP:20260424T160528Z
SUMMARY:Spring Parent Meeting
LOCATION:PHS-1-Auditiorium (750)
URL;VALUE=URI:https://www.polson.k12.mt.us/polson-high-school/calendar/8885
 116/spring-parent-meeting
DTSTART:20260310T003000Z
DTEND:20260310T013000Z
END:VEVENT
END:VCALENDAR
