BEGIN:VCALENDAR
VERSION:2.0
PRODID:SchoolNow
CALSCALE:GREGORIAN
BEGIN:VEVENT
UID:a0bf834a-1425-11f1-91ab-0e17556bef1d
DTSTAMP:20260424T160528Z
SUMMARY:GBB @ Browning
LOCATION:Browning High School District\, MT\, USA
URL;VALUE=URI:https://www.polson.k12.mt.us/polson-high-school/calendar/8876
 560/gbb-browning
DTSTART:20260228T210000Z
DTEND:20260228T223000Z
END:VEVENT
END:VCALENDAR
