BEGIN:VCALENDAR
VERSION:2.0
PRODID:SchoolNow
CALSCALE:GREGORIAN
BEGIN:VEVENT
UID:a0bf7bb6-1425-11f1-baa6-0e17556bef1d
DTSTAMP:20260424T160528Z
SUMMARY:BBB vs Whitefish
LOCATION:LIND-1-Linderman Gym (1600)
URL;VALUE=URI:https://www.polson.k12.mt.us/polson-high-school/calendar/8876
 559/bbb-vs-whitefish
DTSTART:20260227T020000Z
DTEND:20260227T033000Z
END:VEVENT
END:VCALENDAR
