BEGIN:VCALENDAR
VERSION:2.0
PRODID:SchoolNow
CALSCALE:GREGORIAN
BEGIN:VEVENT
UID:11c1d430-f810-11f0-91ba-0a58a9feac02
DTSTAMP:20260424T160528Z
SUMMARY:Western B Divisionals
LOCATION:LIND-1-Linderman Gym (1600)
URL;VALUE=URI:https://www.polson.k12.mt.us/polson-high-school/calendar/8839
 704/western-b-divisionals
DTSTART:20260307T070000Z
DTEND:20260308T070000Z
END:VEVENT
END:VCALENDAR
