BEGIN:VCALENDAR
VERSION:2.0
PRODID:SchoolNow
CALSCALE:GREGORIAN
BEGIN:VEVENT
UID:833b2086-dbc7-11f0-9d3e-0a58a9feac02
DTSTAMP:20260424T221025Z
SUMMARY:Bbb vs St. Regis
LOCATION:LIND-1-Linderman Gym (1600)
URL;VALUE=URI:https://www.polson.k12.mt.us/polson-high-school/calendar/8825
 623/bbb-vs-st-regis
DTSTART:20260102T220000Z
DTEND:20260103T010000Z
END:VEVENT
END:VCALENDAR
