BEGIN:VCALENDAR
VERSION:2.0
PRODID:SchoolNow
CALSCALE:GREGORIAN
BEGIN:VEVENT
UID:3cddedda-d0a0-11f0-8a43-0affe4991877
DTSTAMP:20251216T154142Z
SUMMARY:Spring Play
LOCATION:PHS-1-Auditiorium (750)
URL;VALUE=URI:https://www.polson.k12.mt.us/polson-high-school/calendar/8816
 962/spring-play
DTSTART:20260315T010000Z
DTEND:20260315T040000Z
END:VEVENT
END:VCALENDAR
