BEGIN:VCALENDAR
VERSION:2.0
PRODID:SchoolNow
CALSCALE:GREGORIAN
BEGIN:VEVENT
UID:5aa9c374-b9b8-11f0-ad28-0a58a9feac02
DTSTAMP:20251216T154142Z
SUMMARY:PHS Fall Play
LOCATION:PHS-1-Auditiorium (750)
URL;VALUE=URI:https://www.polson.k12.mt.us/polson-high-school/calendar/8776
 909/phs-fall-play
DTSTART:20251214T010000Z
DTEND:20251214T050000Z
END:VEVENT
END:VCALENDAR
