BEGIN:VCALENDAR
VERSION:2.0
PRODID:SchoolNow
CALSCALE:GREGORIAN
BEGIN:VEVENT
UID:fc21b24e-a87d-11f0-bc64-0afffbfa5a3f
DTSTAMP:20251216T154142Z
SUMMARY:PHS Music Awards Banquet
LOCATION:PHS-L-PHS Commons (Cafeteria) (200)
URL;VALUE=URI:https://www.polson.k12.mt.us/polson-high-school/calendar/8719
 867/phs-music-awards-banquet
DTSTART:20260602T010000Z
DTEND:20260602T023000Z
END:VEVENT
END:VCALENDAR
