BEGIN:VCALENDAR
VERSION:2.0
PRODID:SchoolNow
CALSCALE:GREGORIAN
BEGIN:VEVENT
UID:fc21b08c-a87d-11f0-9a98-0afffbfa5a3f
DTSTAMP:20251216T154142Z
SUMMARY:PHS Pop Concert
LOCATION:PHS-1-Auditiorium (750)
URL;VALUE=URI:https://www.polson.k12.mt.us/polson-high-school/calendar/8719
 865/phs-pop-concert
DTSTART:20260520T010000Z
DTEND:20260520T040000Z
END:VEVENT
END:VCALENDAR
