BEGIN:VCALENDAR
VERSION:2.0
PRODID:SchoolNow
CALSCALE:GREGORIAN
BEGIN:VEVENT
UID:fc21afb0-a87d-11f0-a2fe-0afffbfa5a3f
DTSTAMP:20251216T154142Z
SUMMARY:PMS Choir Concert
LOCATION:PHS-1-Auditiorium (750)
URL;VALUE=URI:https://www.polson.k12.mt.us/polson-high-school/calendar/8719
 864/pms-choir-concert
DTSTART:20260519T000000Z
DTEND:20260519T010000Z
END:VEVENT
END:VCALENDAR
