BEGIN:VCALENDAR
VERSION:2.0
PRODID:SchoolNow
CALSCALE:GREGORIAN
BEGIN:VEVENT
UID:fc21aed4-a87d-11f0-aeb5-0afffbfa5a3f
DTSTAMP:20251216T154142Z
SUMMARY:State Music Festival
URL;VALUE=URI:https://www.polson.k12.mt.us/polson-high-school/calendar/8719
 863/state-music-festival
DTSTART;VALUE=DATE:20260501
DTEND;VALUE=DATE:20260503
END:VEVENT
END:VCALENDAR
