BEGIN:VCALENDAR
VERSION:2.0
PRODID:SchoolNow
CALSCALE:GREGORIAN
BEGIN:VEVENT
UID:fc21adee-a87d-11f0-b7a7-0afffbfa5a3f
DTSTAMP:20251216T154142Z
SUMMARY:Music in the Missions (PHS Band)
LOCATION:PHS-1-Auditiorium (750)
URL;VALUE=URI:https://www.polson.k12.mt.us/polson-high-school/calendar/8719
 862/music-in-the-missions-phs-band
DTSTART:20260430T003000Z
DTEND:20260430T023000Z
END:VEVENT
END:VCALENDAR
