BEGIN:VCALENDAR
VERSION:2.0
PRODID:SchoolNow
CALSCALE:GREGORIAN
BEGIN:VEVENT
UID:fc21ad12-a87d-11f0-94ef-0afffbfa5a3f
DTSTAMP:20251216T154142Z
SUMMARY:PHS District Music Festival
URL;VALUE=URI:https://www.polson.k12.mt.us/polson-high-school/calendar/8719
 861/phs-district-music-festival
DTSTART;VALUE=DATE:20260409
DTEND;VALUE=DATE:20260412
END:VEVENT
END:VCALENDAR
