BEGIN:VCALENDAR
VERSION:2.0
PRODID:SchoolNow
CALSCALE:GREGORIAN
BEGIN:VEVENT
UID:fc21ac2c-a87d-11f0-98e1-0afffbfa5a3f
DTSTAMP:20251216T154142Z
SUMMARY:PHS Spring Choir Concert
LOCATION:PHS-1-Auditiorium (750)
URL;VALUE=URI:https://www.polson.k12.mt.us/polson-high-school/calendar/8719
 860/phs-spring-choir-concert
DTSTART:20260320T013000Z
DTEND:20260320T030000Z
END:VEVENT
END:VCALENDAR
