BEGIN:VCALENDAR
VERSION:2.0
PRODID:SchoolNow
CALSCALE:GREGORIAN
BEGIN:VEVENT
UID:fc21aa56-a87d-11f0-8647-0afffbfa5a3f
DTSTAMP:20251216T154142Z
SUMMARY:PMS Band Concert
LOCATION:PHS-1-Auditiorium (750)
URL;VALUE=URI:https://www.polson.k12.mt.us/polson-high-school/calendar/8719
 858/pms-band-concert
DTSTART:20260313T010000Z
DTEND:20260313T030000Z
END:VEVENT
END:VCALENDAR
