BEGIN:VCALENDAR
VERSION:2.0
PRODID:SchoolNow
CALSCALE:GREGORIAN
BEGIN:VEVENT
UID:fc21a948-a87d-11f0-8111-0afffbfa5a3f
DTSTAMP:20251216T154142Z
SUMMARY:All Northwest Festival ACDA (Choir)
URL;VALUE=URI:https://www.polson.k12.mt.us/polson-high-school/calendar/8719
 857/all-northwest-festival-acda-choir
DTSTART:20260304T070000Z
DTEND:20260308T070000Z
END:VEVENT
END:VCALENDAR
