BEGIN:VCALENDAR
VERSION:2.0
PRODID:SchoolNow
CALSCALE:GREGORIAN
BEGIN:VEVENT
UID:fc21a7ae-a87d-11f0-8b1c-0afffbfa5a3f
DTSTAMP:20251216T154142Z
SUMMARY:Flathead Lake Choir Festival Concert
LOCATION:PHS-1-Auditiorium (750)
URL;VALUE=URI:https://www.polson.k12.mt.us/polson-high-school/calendar/8719
 856/flathead-lake-choir-festival-concert
DTSTART:20260203T003000Z
DTEND:20260203T023000Z
END:VEVENT
END:VCALENDAR
