BEGIN:VCALENDAR
VERSION:2.0
PRODID:SchoolNow
CALSCALE:GREGORIAN
BEGIN:VEVENT
UID:fc21a664-a87d-11f0-aaa6-0afffbfa5a3f
DTSTAMP:20251216T154142Z
SUMMARY:Flathead Lake Choir Festival
LOCATION:PHS-1-Auditiorium (750)
URL;VALUE=URI:https://www.polson.k12.mt.us/polson-high-school/calendar/8719
 855/flathead-lake-choir-festival
DTSTART:20260202T070000Z
DTEND:20260203T070000Z
END:VEVENT
END:VCALENDAR
