BEGIN:VCALENDAR
VERSION:2.0
PRODID:SchoolNow
CALSCALE:GREGORIAN
BEGIN:VEVENT
UID:fc21a556-a87d-11f0-8b9b-0afffbfa5a3f
DTSTAMP:20251216T154142Z
SUMMARY:NW MT Band Festival
LOCATION:PHS-1-Auditiorium (750)
URL;VALUE=URI:https://www.polson.k12.mt.us/polson-high-school/calendar/8719
 854/nw-mt-band-festival
DTSTART:20260126T070000Z
DTEND:20260128T070000Z
END:VEVENT
END:VCALENDAR
