BEGIN:VCALENDAR
VERSION:2.0
PRODID:SchoolNow
CALSCALE:GREGORIAN
BEGIN:VEVENT
UID:fc21a466-a87d-11f0-99d5-0afffbfa5a3f
DTSTAMP:20251216T154142Z
SUMMARY:NW MT Band Concert
LOCATION:PHS-1-Auditiorium (750)
URL;VALUE=URI:https://www.polson.k12.mt.us/polson-high-school/calendar/8719
 853/nw-mt-band-concert
DTSTART:20260128T010000Z
DTEND:20260128T030000Z
END:VEVENT
END:VCALENDAR
