BEGIN:VCALENDAR
VERSION:2.0
PRODID:SchoolNow
CALSCALE:GREGORIAN
BEGIN:VEVENT
UID:fc21a308-a87d-11f0-8f07-0afffbfa5a3f
DTSTAMP:20251216T154142Z
SUMMARY:All-Star Choir Festival
URL;VALUE=URI:https://www.polson.k12.mt.us/polson-high-school/calendar/8719
 852/all-star-choir-festival
DTSTART;VALUE=DATE:20260123
DTEND;VALUE=DATE:20260124
END:VEVENT
END:VCALENDAR
