BEGIN:VCALENDAR
VERSION:2.0
PRODID:SchoolNow
CALSCALE:GREGORIAN
BEGIN:VEVENT
UID:fc21a060-a87d-11f0-a9fb-0afffbfa5a3f
DTSTAMP:20251216T154142Z
SUMMARY:PHS Connection Choir Tour
URL;VALUE=URI:https://www.polson.k12.mt.us/polson-high-school/calendar/8719
 850/phs-connection-choir-tour
DTSTART;VALUE=DATE:20251215
DTEND;VALUE=DATE:20251216
END:VEVENT
END:VCALENDAR
