BEGIN:VCALENDAR
VERSION:2.0
PRODID:SchoolNow
CALSCALE:GREGORIAN
BEGIN:VEVENT
UID:fc219d9a-a87d-11f0-9293-0afffbfa5a3f
DTSTAMP:20251216T154142Z
SUMMARY:PMS Choir Concert
LOCATION:PHS-1-Auditiorium (750)
URL;VALUE=URI:https://www.polson.k12.mt.us/polson-high-school/calendar/8719
 847/pms-choir-concert
DTSTART:20251210T010000Z
DTEND:20251210T020000Z
END:VEVENT
END:VCALENDAR
