BEGIN:VCALENDAR
VERSION:2.0
PRODID:SchoolNow
CALSCALE:GREGORIAN
BEGIN:VEVENT
UID:fc219c96-a87d-11f0-b9e9-0afffbfa5a3f
DTSTAMP:20251216T154142Z
SUMMARY:Western A Music Festival
URL;VALUE=URI:https://www.polson.k12.mt.us/polson-high-school/calendar/8719
 846/western-a-music-festival
DTSTART;VALUE=DATE:20251117
DTEND;VALUE=DATE:20251119
END:VEVENT
END:VCALENDAR
