BEGIN:VCALENDAR
VERSION:2.0
PRODID:SchoolNow
CALSCALE:GREGORIAN
BEGIN:VEVENT
UID:33ce6e4e-a482-11f0-978a-0a58a9feac02
DTSTAMP:20260424T160528Z
SUMMARY:SW @ State Meet
URL;VALUE=URI:https://www.polson.k12.mt.us/polson-high-school/calendar/8706
 281/sw-state-meet
DTSTART;VALUE=DATE:20260212
DTEND;VALUE=DATE:20260215
END:VEVENT
END:VCALENDAR
