BEGIN:VCALENDAR
VERSION:2.0
PRODID:SchoolNow
CALSCALE:GREGORIAN
BEGIN:VEVENT
UID:33ce6b92-a482-11f0-9ed4-0a58a9feac02
DTSTAMP:20260424T221025Z
SUMMARY:SW @ Flathead Valley Meet
URL;VALUE=URI:https://www.polson.k12.mt.us/polson-high-school/calendar/8706
 279/sw-flathead-valley-meet
DTSTART:20260124T170000Z
DTEND:20260124T230000Z
END:VEVENT
END:VCALENDAR
