BEGIN:VCALENDAR
VERSION:2.0
PRODID:SchoolNow
CALSCALE:GREGORIAN
BEGIN:VEVENT
UID:d983e4c6-8f98-11f0-aef3-0affc84c30a9
DTSTAMP:20260424T160528Z
SUMMARY:Tennis @ State
URL;VALUE=URI:https://www.polson.k12.mt.us/polson-high-school/calendar/8612
 019/tennis-state
DTSTART;VALUE=DATE:20260528
DTEND;VALUE=DATE:20260531
END:VEVENT
END:VCALENDAR
