BEGIN:VCALENDAR
VERSION:2.0
PRODID:SchoolNow
CALSCALE:GREGORIAN
BEGIN:VEVENT
UID:d983de68-8f98-11f0-b221-0affc84c30a9
DTSTAMP:20260424T160528Z
SUMMARY:Track @ Divisionals
URL;VALUE=URI:https://www.polson.k12.mt.us/polson-high-school/calendar/8612
 017/track-divisionals
DTSTART;VALUE=DATE:20260522
DTEND;VALUE=DATE:20260524
END:VEVENT
END:VCALENDAR
