BEGIN:VCALENDAR
VERSION:2.0
PRODID:SchoolNow
CALSCALE:GREGORIAN
BEGIN:VEVENT
UID:d947075e-8f98-11f0-96c9-0affc84c30a9
DTSTAMP:20260424T160528Z
SUMMARY:SB vs CFalls
URL;VALUE=URI:https://www.polson.k12.mt.us/polson-high-school/calendar/8611
 991/sb-vs-cfalls
DTSTART;VALUE=DATE:20260519
DTEND;VALUE=DATE:20260520
END:VEVENT
END:VCALENDAR
