BEGIN:VCALENDAR
VERSION:2.0
PRODID:SchoolNow
CALSCALE:GREGORIAN
BEGIN:VEVENT
UID:d94705b0-8f98-11f0-bc68-0affc84c30a9
DTSTAMP:20260424T160528Z
SUMMARY:Track hosting ABC
URL;VALUE=URI:https://www.polson.k12.mt.us/polson-high-school/calendar/8611
 989/track-hosting-abc
DTSTART;VALUE=DATE:20260516
DTEND;VALUE=DATE:20260517
END:VEVENT
END:VCALENDAR
