BEGIN:VCALENDAR
VERSION:2.0
PRODID:SchoolNow
CALSCALE:GREGORIAN
BEGIN:VEVENT
UID:d947015a-8f98-11f0-8660-0affc84c30a9
DTSTAMP:20260424T160528Z
SUMMARY:SB @ Ronan
URL;VALUE=URI:https://www.polson.k12.mt.us/polson-high-school/calendar/8611
 984/sb-ronan
DTSTART;VALUE=DATE:20260507
DTEND;VALUE=DATE:20260508
END:VEVENT
END:VCALENDAR
