BEGIN:VCALENDAR
VERSION:2.0
PRODID:SchoolNow
CALSCALE:GREGORIAN
BEGIN:VEVENT
UID:d947007e-8f98-11f0-af24-0affc84c30a9
DTSTAMP:20260424T160528Z
SUMMARY:PMS Track Meet
URL;VALUE=URI:https://www.polson.k12.mt.us/polson-high-school/calendar/8611
 983/pms-track-meet
DTSTART;VALUE=DATE:20260501
DTEND;VALUE=DATE:20260502
END:VEVENT
END:VCALENDAR
