BEGIN:VCALENDAR
VERSION:2.0
PRODID:SchoolNow
CALSCALE:GREGORIAN
BEGIN:VEVENT
UID:d946ff98-8f98-11f0-bbe1-0affc84c30a9
DTSTAMP:20260424T160528Z
SUMMARY:Track hosting Lake County
URL;VALUE=URI:https://www.polson.k12.mt.us/polson-high-school/calendar/8611
 982/track-hosting-lake-county
DTSTART;VALUE=DATE:20260507
DTEND;VALUE=DATE:20260508
END:VEVENT
END:VCALENDAR
