BEGIN:VCALENDAR
VERSION:2.0
PRODID:SchoolNow
CALSCALE:GREGORIAN
BEGIN:VEVENT
UID:d946febc-8f98-11f0-bd3f-0affc84c30a9
DTSTAMP:20260424T160528Z
SUMMARY:SB @ Libby
LOCATION:Libby\, MT 59923\, USA
URL;VALUE=URI:https://www.polson.k12.mt.us/polson-high-school/calendar/8611
 981/sb-libby
DTSTART:20260505T210000Z
DTEND:20260506T010000Z
END:VEVENT
END:VCALENDAR
