BEGIN:VCALENDAR
VERSION:2.0
PRODID:SchoolNow
CALSCALE:GREGORIAN
BEGIN:VEVENT
UID:d946fb42-8f98-11f0-840d-0affc84c30a9
DTSTAMP:20260424T160528Z
SUMMARY:SB @ Frenchtown
LOCATION:Frenchtown Junior High School\, 17620 Frenchtown Frontage Rd\, Fre
 nchtown\, MT 59834\, USA
URL;VALUE=URI:https://www.polson.k12.mt.us/polson-high-school/calendar/8611
 977/sb-frenchtown
DTSTART:20260428T230000Z
DTEND:20260429T030000Z
END:VEVENT
END:VCALENDAR
