BEGIN:VCALENDAR
VERSION:2.0
PRODID:SchoolNow
CALSCALE:GREGORIAN
BEGIN:VEVENT
UID:d946f994-8f98-11f0-8650-0affc84c30a9
DTSTAMP:20260424T160528Z
SUMMARY:TN JV Mixer
LOCATION:LIND-1-Tennis Complex (100)
URL;VALUE=URI:https://www.polson.k12.mt.us/polson-high-school/calendar/8611
 975/tn-jv-mixer
DTSTART:20260427T160000Z
DTEND:20260428T000000Z
END:VEVENT
END:VCALENDAR
