BEGIN:VCALENDAR
VERSION:2.0
PRODID:SchoolNow
CALSCALE:GREGORIAN
BEGIN:VEVENT
UID:d946f8b8-8f98-11f0-9c13-0affc84c30a9
DTSTAMP:20260424T160528Z
SUMMARY:Track @ CFalls
URL;VALUE=URI:https://www.polson.k12.mt.us/polson-high-school/calendar/8611
 974/track-cfalls
DTSTART;VALUE=DATE:20260425
DTEND;VALUE=DATE:20260426
END:VEVENT
END:VCALENDAR
