BEGIN:VCALENDAR
VERSION:2.0
PRODID:SchoolNow
CALSCALE:GREGORIAN
BEGIN:VEVENT
UID:d946f7dc-8f98-11f0-a9d8-0affc84c30a9
DTSTAMP:20260424T160528Z
SUMMARY:SB@ CFalls
URL;VALUE=URI:https://www.polson.k12.mt.us/polson-high-school/calendar/8611
 973/sb-cfalls
DTSTART:20260423T210000Z
DTEND:20260424T010000Z
END:VEVENT
END:VCALENDAR
