BEGIN:VCALENDAR
VERSION:2.0
PRODID:SchoolNow
CALSCALE:GREGORIAN
BEGIN:VEVENT
UID:d946f700-8f98-11f0-8aea-0affc84c30a9
DTSTAMP:20260424T160528Z
SUMMARY:Track @ Twilight Meet
LOCATION:Corvallis\, MT 59828\, USA
URL;VALUE=URI:https://www.polson.k12.mt.us/polson-high-school/calendar/8611
 972/track-twilight-meet
DTSTART:20260423T223000Z
DTEND:20260424T040000Z
END:VEVENT
END:VCALENDAR
