BEGIN:VCALENDAR
VERSION:2.0
PRODID:SchoolNow
CALSCALE:GREGORIAN
BEGIN:VEVENT
UID:d946f624-8f98-11f0-9ccc-0affc84c30a9
DTSTAMP:20260424T160528Z
SUMMARY:SB vs Ronan
LOCATION:CV-1-Softball Complex (500)
URL;VALUE=URI:https://www.polson.k12.mt.us/polson-high-school/calendar/8611
 971/sb-vs-ronan
DTSTART:20260421T230000Z
DTEND:20260422T030000Z
END:VEVENT
END:VCALENDAR
