BEGIN:VCALENDAR
VERSION:2.0
PRODID:SchoolNow
CALSCALE:GREGORIAN
BEGIN:VEVENT
UID:d946f462-8f98-11f0-9e9d-0affc84c30a9
DTSTAMP:20260420T023525Z
SUMMARY:TN JV Mixer
LOCATION:LIND-1-Tennis Complex (100)
URL;VALUE=URI:https://www.polson.k12.mt.us/polson-high-school/calendar/8611
 969/tn-jv-mixer
DTSTART:20260420T160000Z
DTEND:20260421T000000Z
END:VEVENT
END:VCALENDAR
