BEGIN:VCALENDAR
VERSION:2.0
PRODID:SchoolNow
CALSCALE:GREGORIAN
BEGIN:VEVENT
UID:d946f1ba-8f98-11f0-a5a2-0affc84c30a9
DTSTAMP:20260424T160528Z
SUMMARY:SB vs Libby
LOCATION:CV-1-Softball Complex (500)
URL;VALUE=URI:https://www.polson.k12.mt.us/polson-high-school/calendar/8611
 966/sb-vs-libby
DTSTART:20260414T220000Z
DTEND:20260415T020000Z
END:VEVENT
END:VCALENDAR
