BEGIN:VCALENDAR
VERSION:2.0
PRODID:SchoolNow
CALSCALE:GREGORIAN
BEGIN:VEVENT
UID:d946f002-8f98-11f0-8214-0affc84c30a9
DTSTAMP:20260424T160528Z
SUMMARY:Track @ Flathead Time Trials
URL;VALUE=URI:https://www.polson.k12.mt.us/polson-high-school/calendar/8611
 964/track-flathead-time-trials
DTSTART;VALUE=DATE:20260407
DTEND;VALUE=DATE:20260408
END:VEVENT
END:VCALENDAR
