BEGIN:VCALENDAR
VERSION:2.0
PRODID:SchoolNow
CALSCALE:GREGORIAN
BEGIN:VEVENT
UID:d946ef26-8f98-11f0-af17-0affc84c30a9
DTSTAMP:20260424T160528Z
SUMMARY:SB vs Whitefish/Browning
URL;VALUE=URI:https://www.polson.k12.mt.us/polson-high-school/calendar/8611
 963/sb-vs-whitefish-browning
DTSTART:20260411T180000Z
DTEND:20260412T000000Z
END:VEVENT
END:VCALENDAR
