BEGIN:VCALENDAR
VERSION:2.0
PRODID:SchoolNow
CALSCALE:GREGORIAN
BEGIN:VEVENT
UID:d946ee40-8f98-11f0-977a-0affc84c30a9
DTSTAMP:20260424T160528Z
SUMMARY:TN vs WF/Dillon
URL;VALUE=URI:https://www.polson.k12.mt.us/polson-high-school/calendar/8611
 962/tn-vs-wf-dillon
DTSTART:20260411T150000Z
DTEND:20260412T000000Z
END:VEVENT
END:VCALENDAR
