BEGIN:VCALENDAR
VERSION:2.0
PRODID:SchoolNow
CALSCALE:GREGORIAN
BEGIN:VEVENT
UID:d946eba2-8f98-11f0-aa46-0affc84c30a9
DTSTAMP:20260424T160528Z
SUMMARY:TN vs Stevi/Ronan
URL;VALUE=URI:https://www.polson.k12.mt.us/polson-high-school/calendar/8611
 959/tn-vs-stevi-ronan
DTSTART;VALUE=DATE:20260404
DTEND;VALUE=DATE:20260405
END:VEVENT
END:VCALENDAR
